BEGIN:VCALENDAR
PRODID:-//eluceo/ical//2.0/EN
VERSION:2.0
CALSCALE:GREGORIAN
BEGIN:VEVENT
UID:event-1316
DTSTAMP:20260422T185712Z
SUMMARY:AlCoLI Pitcher Perfect borrel
DESCRIPTION:Bestel hier avondeten!
DTSTART:20260429T150000Z
DTEND:20260429T190900Z
END:VEVENT
BEGIN:VTIMEZONE
TZID:UTC
BEGIN:STANDARD
DTSTART:20260429T150000
TZNAME:UTC
TZOFFSETTO:+0000
TZOFFSETFROM:+0000
END:STANDARD
END:VTIMEZONE
END:VCALENDAR
