BEGIN:VCALENDAR
PRODID:-//eluceo/ical//2.0/EN
VERSION:2.0
CALSCALE:GREGORIAN
BEGIN:VEVENT
UID:event-1311
DTSTAMP:20260423T144335Z
SUMMARY:Rally
DESCRIPTION:Complete challenges while traveling from A to B! How? Not with 
 a car \;)
DTSTART:20260522T150000Z
DTEND:20260522T210000Z
END:VEVENT
BEGIN:VTIMEZONE
TZID:UTC
BEGIN:STANDARD
DTSTART:20260522T150000
TZNAME:UTC
TZOFFSETTO:+0000
TZOFFSETFROM:+0000
END:STANDARD
END:VTIMEZONE
END:VCALENDAR
