BEGIN:VCALENDAR
PRODID:-//eluceo/ical//2.0/EN
VERSION:2.0
CALSCALE:GREGORIAN
BEGIN:VEVENT
UID:event-1310
DTSTAMP:20260423T143913Z
SUMMARY:Mocktail Sip & Paint
DESCRIPTION:Register here for this Mocktail Sip &amp\; Paint to to relax a
 nd take a break from studying. The event is together with TG and we provid
 e free mocktails and snacks!
DTSTART:20260330T150000Z
DTEND:20260330T163000Z
END:VEVENT
BEGIN:VTIMEZONE
TZID:UTC
BEGIN:STANDARD
DTSTART:20260330T150000
TZNAME:UTC
TZOFFSETTO:+0000
TZOFFSETFROM:+0000
END:STANDARD
END:VTIMEZONE
END:VCALENDAR
