BEGIN:VCALENDAR
PRODID:-//eluceo/ical//2.0/EN
VERSION:2.0
CALSCALE:GREGORIAN
BEGIN:VEVENT
UID:event-1304
DTSTAMP:20260423T145606Z
SUMMARY:Thesis Orientation Day
DESCRIPTION:Register here for the event\, there will be free lunch! 
DTSTART:20260212T110000Z
DTEND:20260212T130000Z
LOCATION:Het Atrium\, TNW\, Delft
END:VEVENT
BEGIN:VTIMEZONE
TZID:UTC
BEGIN:STANDARD
DTSTART:20260212T110000
TZNAME:UTC
TZOFFSETTO:+0000
TZOFFSETFROM:+0000
END:STANDARD
END:VTIMEZONE
END:VCALENDAR
