BEGIN:VCALENDAR
PRODID:-//eluceo/ical//2.0/EN
VERSION:2.0
CALSCALE:GREGORIAN
BEGIN:VEVENT
UID:event-1294
DTSTAMP:20260423T144625Z
SUMMARY:MaCo Christmas Decoration
DESCRIPTION:Come decorate some Christmas ornaments in your nicest (or uglie
 st) Christmas sweater with the MaCo! Be there on the 15th of December at 1
 7:00\, you can join for only 1 euro! Register at the CDL via this link.
DTSTART:20251215T160000Z
DTEND:20251215T190000Z
END:VEVENT
BEGIN:VTIMEZONE
TZID:UTC
BEGIN:STANDARD
DTSTART:20251215T160000
TZNAME:UTC
TZOFFSETTO:+0000
TZOFFSETFROM:+0000
END:STANDARD
END:VTIMEZONE
END:VCALENDAR
