BEGIN:VCALENDAR
PRODID:-//eluceo/ical//2.0/EN
VERSION:2.0
CALSCALE:GREGORIAN
BEGIN:VEVENT
UID:event-1271
DTSTAMP:20260423T145301Z
SUMMARY:LIFETVeest
DESCRIPTION:We are sold out! But bonus tickets can be bought via this link!
DTSTART:20260211T190000Z
DTEND:20260211T225900Z
LOCATION:/Pub Delft
END:VEVENT
BEGIN:VTIMEZONE
TZID:UTC
BEGIN:STANDARD
DTSTART:20260211T190000
TZNAME:UTC
TZOFFSETTO:+0000
TZOFFSETFROM:+0000
END:STANDARD
END:VTIMEZONE
END:VCALENDAR
