BEGIN:VCALENDAR
PRODID:-//eluceo/ical//2.0/EN
VERSION:2.0
CALSCALE:GREGORIAN
BEGIN:VEVENT
UID:event-1270
DTSTAMP:20260423T145606Z
SUMMARY:Buitenlandreis 2026
DESCRIPTION:Meld je hier aan voor de Buitenlandreis 2026 naar Munchen\, Gra
 z en Praag! De deelnemersprijs zal €375\,- worden. 
DTSTART:20260130T134548Z
DTEND:20260207T230000Z
END:VEVENT
BEGIN:VTIMEZONE
TZID:UTC
BEGIN:STANDARD
DTSTART:20260130T134548
TZNAME:UTC
TZOFFSETTO:+0000
TZOFFSETFROM:+0000
END:STANDARD
END:VTIMEZONE
END:VCALENDAR
