BEGIN:VCALENDAR
PRODID:-//eluceo/ical//2.0/EN
VERSION:2.0
CALSCALE:GREGORIAN
BEGIN:VEVENT
UID:event-1249
DTSTAMP:20260423T141410Z
SUMMARY:Wissel-ALV
DESCRIPTION:Wil je eten bestellen voor tijdens de Wissel-ALV? Bestel hier e
 en portie patat en hier een portie patat met snack!
DTSTART:20250915T160000Z
DTEND:20250915T200000Z
END:VEVENT
BEGIN:VTIMEZONE
TZID:UTC
BEGIN:STANDARD
DTSTART:20250915T160000
TZNAME:UTC
TZOFFSETTO:+0000
TZOFFSETFROM:+0000
END:STANDARD
END:VTIMEZONE
END:VCALENDAR
