BEGIN:VCALENDAR
PRODID:-//eluceo/ical//2.0/EN
VERSION:2.0
CALSCALE:GREGORIAN
BEGIN:VEVENT
UID:event-1247
DTSTAMP:20260423T145412Z
SUMMARY:Alumni Career Event
DESCRIPTION:
DTSTART:20251020T160000Z
DTEND:20251020T190000Z
LOCATION:Alumni Career Event
END:VEVENT
BEGIN:VTIMEZONE
TZID:UTC
BEGIN:STANDARD
DTSTART:20251020T160000
TZNAME:UTC
TZOFFSETTO:+0000
TZOFFSETFROM:+0000
END:STANDARD
END:VTIMEZONE
END:VCALENDAR
