BEGIN:VCALENDAR
PRODID:-//eluceo/ical//2.0/EN
VERSION:2.0
CALSCALE:GREGORIAN
BEGIN:VEVENT
UID:event-1214
DTSTAMP:20260423T144453Z
SUMMARY:Borrel in Bar het Lab
DESCRIPTION:Kom gezellig een drankje drinken! Je kan hier patat bestellen
  voor tijdens de borrel!
DTSTART:20260211T160000Z
DTEND:20260211T183000Z
END:VEVENT
BEGIN:VTIMEZONE
TZID:UTC
BEGIN:STANDARD
DTSTART:20260211T160000
TZNAME:UTC
TZOFFSETTO:+0000
TZOFFSETFROM:+0000
END:STANDARD
END:VTIMEZONE
END:VCALENDAR
