BEGIN:VCALENDAR
PRODID:-//eluceo/ical//2.0/EN
VERSION:2.0
CALSCALE:GREGORIAN
BEGIN:VEVENT
UID:event-1173
DTSTAMP:20260423T143317Z
SUMMARY:Case-avond Orde van Octrooigemachtigden
DESCRIPTION:
DTSTART:20250428T151500Z
DTEND:20250428T180000Z
LOCATION:TNW-Zuid
END:VEVENT
BEGIN:VTIMEZONE
TZID:UTC
BEGIN:STANDARD
DTSTART:20250428T151500
TZNAME:UTC
TZOFFSETTO:+0000
TZOFFSETFROM:+0000
END:STANDARD
END:VTIMEZONE
END:VCALENDAR
